Workbook

Sheet Sheet1
A1: ID | B1: Heure de début | C1: Heure de fin | D1: Adresse de messagerie | E1: Colonne1 | F1: Nom | G1: Quel est le nom de votre structure ? | H1: Fédération d'affiliation : | I1: Vous êtes : | J1: Sur quel territoire intervenez-vous ? | K1: Votre nom, prénom et votre poste dans la structure : | L1: Votre numéro de téléphone : | M1: Votre adresse mail : | N1: Votre nom, prénom et votre poste dans la structure :2 | O1: Votre numéro de téléphone :2 | P1: Votre adresse mail :2 | Q1: Votre fédération propose-t-elle un programme de réutilisation du matériel sportif ? | R1: Votre comité est-il impliqué dans un programme de recyclage du matériel sportif ? | S1: Pour quelle(s) raison(s) ne recyclez-vous pas votre matériel ? | T1: Que faites-vous du matériel que vous n'utilisez plus ? | U1: Votre association met-elle en place des actions de recyclage du matériel sportif ? | V1: Décrivez ces actions en quelques mots ? | W1: Si une recyclerie du sport ouvrait, seriez-vous prêt à donner ou vendre votre matériel ? | X1: Votre fédération propose-t-elle un programme de réutilisation du matériel sportif ?2 | Y1: Votre association sportive est-elle impliquée dans un programme de recyclage du matériel sportif ? | Z1: Pour quelle(s) raison(s) ne recyclez-vous pas votre matériel ?2 | AA1: Que faites-vous alors du matériel que vous n'utilisez plus ? | AB1: Votre association met-elle en place des actions de recyclage du matériel sportif ?2 | AC1: Décrivez ces actions en quelques mots ?2 | AD1: Si une recyclerie du sport ouvrait, seriez-vous prêt à donner ou vendre votre matériel ? | AE1: En tant qu'association sportive, seriez-vous prêt à acheter ou recevoir gratuitement du matériel d'occasion pour vos pratiques ? | AF1: Quels seraient les raisons de ne pas utiliser du matériel d'occasion pour vos pratiques ? | AG1: Admettons que vous soyez intéressé, quels types de matériel souhaiteriez-vous retrouver dans une recyclerie du sport ? | AH1: Quels services complémentaires attendriez-vous d'une recyclerie du sport ? | AI1: En tant que comité départemental, seriez-vous prêt à acheter ou recevoir gratuitement du matériel d'occasion pour vos pratiques ? | AJ1: Quels seraient les raisons de ne pas utiliser du matériel d'occasion pour vos pratiques ?2 | AK1: Admettons que vous soyez intéressé, quels types de matériel souhaiteriez-vous retrouver dans une recyclerie du sport ?2 | AL1: Quels services complémentaires attendriez-vous d'une recyclerie du sport ? | AM1: Connaissez-vous la plateforme Responsabilité Sociétale des Organisations du CNOSF ? (Plus d'informations : https://rso.franceolympique.com/ ) | AN1: Connaissez-vous le label "Développement durable, le sport s'engage" du CNOSF ? (Plus d'informations : https://label-dd.franceolympique.com/ ) | AO1: Seriez-vous intéressé pour participer à une réunion de présentation de ces outils ? | AP1: Souhaitez-vous vous impliquer dans la réflexion du projet de la recyclerie du sport ? | AQ1: Si le projet voit le jour, souhaiteriez-vous travailler avec la recyclerie du sport ? | AR1: Souhaitez-vous nous faire part de vos envies ? Avez-vous des remarques ? Des questions ? Exprimez-vous.
A2: 40 | B2: 44601.466 | C2: 44601.468 | D2: anonymous | E2: 1 | F2: Basket | G2: Comite de Moselle de basket Ball | H2: FFBB | I2: Un comité départemental | N2: - | O2: - | P2: - | Q2: Non | R2: Non | S2: Inexistence d'organisme de recyclage ; | T2: Déchèterie ; | W2: Oui, donner et vendre | AI2: Oui, acheter | AK2: Récompenses (médailles, coupes...);Petit matériel (balles, raquettes, volants, ...) ; | AL2: Atelier de revalorisation;Atelier de transformation ; | AM2: Non | AN2: Oui | AO2: Oui | AP2: Non | AQ2: Oui
A3: 52 | B3: 44601.829 | C3: 44601.833 | D3: anonymous | E3: 1 | F3: EPGV | G3: CODEP EPGV 57 | H3: FFEPGV | I3: Un comité départemental | N3: - | O3: - | P3: - | Q3: Non | R3: Non | S3: Inexistence d'organisme de recyclage ; | T3: Déchèterie ; | W3: Oui, donner | AI3: Oui, recevoir gratuitement | AJ3: matériel ne permettant pas une pratique en toute sécurité. | AK3: Petit matériel (balles, raquettes, volants, ...) ;Gros matériel (table de tennis de table, trampoline, ...) ; | AL3: Atelier de revalorisation; | AM3: Non | AN3: Oui | AO3: Non | AP3: Non | AQ3: Non
A4: 70 | B4: 44603.442 | C4: 44603.443 | D4: anonymous | E4: 1 | F4: Parachutisme | G4: C.D PARACHUTISME Moselle | H4: F.F.Parachutisme | I4: Un comité départemental | N4: - | O4: - | P4: - | Q4: Non | R4: Non | S4: Inexistence d'organisme de recyclage ; | T4: Déchèterie ; | W4: Oui, donner | AI4: Oui, recevoir gratuitement | AJ4: usé | AK4: Gros matériel (table de tennis de table, trampoline, ...) ; | AL4: Atelier de co-réparation;Atelier de revalorisation; | AM4: Non | AN4: Oui | AO4: Non | AP4: Non | AQ4: Oui
A5: 5 | B5: 44587.834 | C5: 44587.844 | D5: anonymous | E5: 1 | F5: VB | G5: comité départemental de volley ball de Moselle | H5: fédération française de volley ball | I5: Un comité départemental | N5: - | O5: - | P5: - | Q5: Non | R5: Non | S5: Peu de matériel.; | T5: Déchèterie ; | W5: Oui, donner et vendre | AI5: Oui, acheter | AK5: Petit matériel (balles, raquettes, volants, ...) ;Vêtements/textiles (chasubles, brassard, ...);Récompenses (médailles, coupes...); | AL5: Atelier de co-réparation;Atelier de revalorisation;Formation aux écogestes ;Formation au développement durable ;Atelier de sensibilisation sur le zéro-déchets; | AM5: Non | AN5: Oui | AO5: Oui | AP5: Oui | AQ5: Oui | AR5: Les principaux matériels avec des changements réguliers sont les ballons et là nous sommes liés à l'homologation. Souvent avant d'être trop usé, c'est un soucis de valve aussi s'il pouvait exister un atelier de réparation cela pourrait peut être aider. Pour le reste, il s'agit surtout des vêtements qui sont le plus souvent finalement laissés aux membres quant ils ne leur appartiennent pas déjà.
A6: 66 | B6: 44602.747 | C6: 44602.749 | D6: anonymous | E6: 1 | F6: Badminton | G6: Comité moselle badminton | H6: Ffbad | I6: Un comité départemental | N6: - | O6: - | P6: - | Q6: Non | R6: Non | S6: Raison de sécurité (matériel devant répondre à des normes); | T6: Déchèterie ; | W6: Oui, donner et vendre | AI6: Non | AJ6: Car normalisation des équipements | AK6: Petit matériel (balles, raquettes, volants, ...) ; | AL6: Atelier de transformation ; | AM6: Non | AN6: Oui | AO6: Non | AP6: Non | AQ6: Non
A7: 2 | B7: 44587.721 | C7: 44587.724 | D7: anonymous | E7: 1 | F7: Natation | G7: Cd 57 natation | H7: FF natation | I7: Un comité départemental | N7: - | O7: - | P7: - | Q7: Non | R7: Non | S7: Rien à recycler; | T7: Déchèterie ; | W7: Non | AI7: Non | AJ7: Aucune utilité | AK7: Ras; | AL7: Formation au développement durable ;Formation aux écogestes ; | AM7: Non | AN7: Oui | AO7: Non | AP7: Non | AQ7: Non
A8: 8 | B8: 44587.875 | C8: 44587.884 | D8: anonymous | E8: 1 | F8: Escrime | G8: Comité Départemental d'Escrime de la Moselle (C.D.57 Escrime) | H8: Fédération Française d'Escrime (F.F.E.) | I8: Un comité départemental | N8: - | O8: - | P8: - | Q8: Non | R8: Non | S8: Raison de sécurité (matériel devant répondre à des normes);Notre comité ne propose actuellement pas de matériel ou équipement à recycler. Ma politique à venir serait de pouvoir doter le Comité d'un fonds de matériel pouvant être mis à disposition des clubs mosellans, voire du CID ou du CREGE dans le cadre d'organisations (Coupe de Moselle, Circuits régionaux ou nationaux qui pourraient être pris en charge au niveau mosellan, etc.). Ces investissements sont lourds financièrement parlant. ; | T8: Le cas ne s'est pas présenté à ce jour. Voir ci-dessus.; | W8: Oui, donner et vendre | AI8: Oui, recevoir gratuitement | AJ8: Sécurité : normes en vigueur en terme de tenues et masques (FFE / FIE) Fiabilité technique : en ce qui concerne les appareillages électroniques, enrouleurs au sol et pistes | AK8: Appareils électroniques escrime, enrouleurs au sol.; | AL8: Atelier de co-réparation; | AM8: Non | AN8: Non | AO8: Oui | AP8: Oui | AQ8: Oui | AR8: Prise en compte des spécificités de la discipline escrime (technicité, électronique, électricité, etc.) et de ses impératifs sécuritaires. Par ailleurs l'escrime au niveau départemental représente moins d'une dizaine de clubs et au niveau CID moins d'une trentaine.
A9: 4 | B9: 44587.729 | C9: 44587.732 | D9: anonymous | E9: 1 | F9: Rugby | G9: Comité Déaprtemental de Rugby Moselle | H9: FFR | I9: Un comité départemental | N9: - | O9: - | P9: - | Q9: Non | R9: Non | S9: Inexistence d'organisme de recyclage ; | T9: Stocké au local du comité; | W9: Oui, donner | AI9: Oui, acheter | AK9: Récompenses (médailles, coupes...);Petit matériel (balles, raquettes, volants, ...) ; | AL9: Formation au développement durable ;Formation aux écogestes ; | AM9: Non | AN9: Non | AO9: Oui | AP9: Non | AQ9: Oui
A10: 92 | B10: 44613.413 | C10: 44613.415 | D10: anonymous | E10: 1 | F10: UGSEL | G10: UGSEL 57 | H10: UGSEL | I10: Un comité départemental | N10: - | O10: - | P10: - | Q10: Non | R10: Non | S10: nous n'avons pas de matériel sportif ou très peu; | T10: Stocké au local du comité; | W10: Oui, donner | AI10: Oui, acheter | AK10: Récompenses (médailles, coupes...);Gros matériel (table de tennis de table, trampoline, ...) ;Petit matériel (balles, raquettes, volants, ...) ; | AL10: Atelier de co-réparation;Atelier de sensibilisation sur le zéro-déchets;Vente de pièces détachés (visses, chaines, cordes ...); | AM10: Non | AN10: Non | AO10: Non | AP10: Non | AQ10: Non
A11: 94 | B11: 44613.515 | C11: 44613.517 | D11: anonymous | E11: 1 | F11: Athlétisme | G11: Comité Départemental d'Athlétisme 57 | H11: FFA | I11: Un comité départemental | N11: - | O11: - | P11: - | Q11: Non | R11: Non | S11: Raison de sécurité (matériel devant répondre à des normes); | T11: Stocké au local du comité; | W11: Oui, donner et vendre | AI11: Oui, acheter | AK11: Petit matériel (balles, raquettes, volants, ...) ;Gros matériel (table de tennis de table, trampoline, ...) ; | AL11: Atelier de revalorisation; | AM11: Oui | AN11: Oui | AO11: Oui | AP11: Oui | AQ11: Oui
A12: 14 | B12: 44589.639 | C12: 44589.642 | D12: anonymous | E12: 1 | F12: Triathlon | G12: CD57 Triathlon | H12: FF Triathlon | I12: Un comité départemental | N12: - | O12: - | P12: - | Q12: Non | R12: Non | S12: pas pensé... peu de matériel en propre...; | T12: stocké chez le président; | W12: Oui, donner et vendre | AI12: Oui, acheter | AK12: Vêtements/textiles (chasubles, brassard, ...);Récompenses (médailles, coupes...);Petit matériel (balles, raquettes, volants, ...) ; | AL12: Atelier de co-réparation;Atelier de revalorisation;Vente de pièces détachés (visses, chaines, cordes ...);Atelier de sensibilisation sur le zéro-déchets; | AM12: Oui | AN12: Non | AO12: Oui | AP12: Oui | AQ12: Oui | AR12: il y a un problème avec la question 12, on ne peut faire qu'un choix parmi les 3 et pas choisir OK pour acheter ou recevoir gratuitement, et problème aussi dans la suite proposée automatiquement si on choisit la case du milieu!
A13: 95 | B13: 44613.724 | C13: 44613.726 | D13: anonymous | E13: 1 | F13: Ski | G13: comité de Moselle de ski | H13: FFS | I13: Un comité départemental | N13: - | O13: - | P13: - | Q13: Oui | R13: Non | S13: pas de matériel au comité; | T13: pas de matériel propre; | W13: Oui, donner et vendre | AI13: Oui, recevoir gratuitement | AJ13: aucune | AK13: ski alpin et fond; | AL13: Atelier de co-réparation;Atelier de revalorisation; | AM13: Non | AN13: Non | AO13: Non | AP13: Non | AQ13: Oui | AR13: RAS
A14: 11 | B14: 44588.861 | C14: 44588.863 | D14: anonymous | E14: 1 | F14: Gymnastique | G14: Cd57gym | H14: Federation francaise de gymnastique | I14: Un comité départemental | N14: - | O14: - | P14: - | Q14: Oui | R14: Non | S14: En projet; | T14: Stocké au local du comité;Déchèterie ; | W14: Oui, donner et vendre | AI14: Oui, acheter | AK14: Gros matériel (table de tennis de table, trampoline, ...) ;Récompenses (médailles, coupes...); | AL14: Atelier de co-réparation;Atelier de sensibilisation sur le zéro-déchets;Formation aux écogestes ;Vente de pièces détachés (visses, chaines, cordes ...);Formation au développement durable ; | AM14: Oui | AN14: Oui | AO14: Oui | AP14: Oui | AQ14: Oui | AR14: Tres bonne idee
A15: 22 | B15: 44594.37 | C15: 44594.374 | D15: anonymous | E15: 1 | F15: Voile | G15: cdv57 | H15: ffv | I15: Un comité départemental | N15: - | O15: - | P15: - | Q15: Oui | R15: Oui | U15: En lien avec le programme de la fédération | V15: recyclage avec la collaboration de déchetteries | W15: Oui, donner et vendre | AI15: Oui, recevoir gratuitement | AJ15: selon l'etat du matériel | AK15: voiliers et matériel de navigation; | AL15: Atelier de revalorisation; | AM15: Non | AN15: Oui | AO15: Oui | AP15: Oui | AQ15: Oui
A16: 63 | B16: 44602.662 | C16: 44602.669 | D16: anonymous | E16: 1 | F16: EPGV | G16: GYM BITCHE | H16: FFEPGV | I16: Un club | J16: Sarreguemines - Bitche | K16: - | L16: - | M16: - | X16: Non | Y16: Non | Z16: Nous utilisons nos matériels, il n'y a rien à jeter; | AA16: Stockage dans les locaux du club; | AD16: Oui, vendre | AE16: Non | AF16: Par respect pour nos membres. Ils payent assez cher leur cotisation pour ne pas avoir à utiliser du matériel d'occas | AG16: AUCUN; | AH16: ./.; | AM16: Oui | AN16: Non | AO16: Non | AP16: Non | AQ16: Non | AR16: NON
A17: 88 | B17: 44609.716 | C17: 44609.722 | D17: anonymous | E17: 1 | F17: Sport de quilles | G17: Club de quilles la relève de Cappel | H17: FFBSQ | I17: Un club | J17: Forbach - Saint Avold | K17: - | L17: - | M17: - | X17: Non | Y17: Non | Z17: Rien à recycler; | AA17: Stockage dans les locaux du club; | AD17: Oui, donner et vendre | AE17: Non | AF17: On ne peut que utiliser du matériel neuf | AG17: rien; | AH17: rien; | AM17: Non | AN17: Non | AO17: Non | AP17: Non | AQ17: Non | AR17: Non
A18: 99 | B18: 44613.763 | C18: 44613.779 | D18: anonymous | E18: 1 | F18: Basket | G18: Rombas Olympic Club | H18: FFBB | I18: Un club | J18: Metz - Orne | K18: - | L18: - | M18: - | X18: Non | Y18: Non | Z18: Inexistence d'organisme de recyclage ; | AA18: Donné aux jeunes ou parfois écoles; | AD18: Oui, donner | AE18: Non | AF18: Le gros matériel et infrastructures sont propres au cosec municipal et pour le reste comme ballons ou matériel pédagogique,..préférence sanitaire à de la qualité et au neuf dont on prendra soin au maximum | AG18: Vêtements / Textiles (chasubles, brassard, ...); | AH18: Atelier de sensibilisation sur le zéro-déchets; | AM18: Non | AN18: Non | AO18: Non | AP18: Non | AQ18: Oui | AR18: Pour le moment, pas d'opposition ou d'hostilité, mais peu de choses transformables envisageables (pas de matériel "lourd "comme d'autres sports peu-être,) et déjà énormément de choses à gérer sportivement, financièrement, administrativement , sanitairement...
A19: 85 | B19: 44607.813 | C19: 44607.824 | D19: anonymous | E19: 1 | F19: EPGV | G19: Gymnastique volontaire de Bitche | H19: FFEPGV | I19: Un club | J19: Sarreguemines - Bitche | K19: - | L19: - | M19: - | X19: Non | Y19: Non | Z19: Inexistence d'organisme de recyclage ; | AA19: Stockage dans les locaux du club; | AD19: Oui, donner | AE19: Non | AF19: principalement pour des raisons d'hygiène | AG19: Petit matériel (balles, raquettes, volants, ...); | AH19: Atelier de transformation ; | AM19: Non | AN19: Oui | AO19: Non | AP19: Non | AQ19: Oui | AR19: Notre club étant situé en zone rurale, il est important de pouvoir disposer d'un lieu de recyclerie du sport à une distance raisonnable.
A20: 9 | B20: 44587.929 | C20: 44587.939 | D20: anonymous | E20: 1 | F20: VB | G20: CLUB OMNISPORTS SARRALBE section VOLLEY - BALL | H20: FEDERATION FRANCAISE DE VOLLEY - BALL | I20: Un club | J20: Sarreguemines - Bitche | K20: - | L20: - | M20: - | X20: Non | Y20: Non | Z20: pas de matériel à recycler; | AA20: Déchèterie ; | AD20: Oui, donner | AE20: Non | AF20: Les filets et poteaux de volley doivent être en état correct . Si un filet est abimé on le jette . | AG20: Gros matériel (table de tennis de table, trampoline, ...); | AH20: Atelier de revalorisation;Vente de pièces détachés (visses, chaines, cordes ...); | AM20: Non | AN20: Non | AO20: Oui | AP20: Non | AQ20: Oui
A21: 81 | B21: 44605.783 | C21: 44605.788 | D21: anonymous | E21: 1 | F21: EPGV | G21: STGV | H21: EPGV | I21: Un club | J21: Thionville | K21: - | L21: - | M21: - | X21: Non | Y21: Non | Z21: Pas de matériel mis à disposition de nos adhérents; | AA21: Déchèterie ; | AD21: Oui, donner | AE21: Non | AF21: Pas d'endroit ou stocker le matériel, nous utilisons des salles municipales | AG21: Petit matériel (balles, raquettes, volants, ...); | AH21: Formation au développement durable ; | AM21: Non | AN21: Non | AO21: Non | AP21: Non | AQ21: Non
A22: 100 | B22: 44613.857 | C22: 44613.861 | D22: anonymous | E22: 1 | F22: Athlétisme | G22: Association Sportive Guenange Athlétisme | H22: FFA | I22: Un club | J22: Thionville | K22: - | L22: - | M22: - | X22: Non | Y22: Non | Z22: Très peu de matériel à recycler; | AA22: Déchèterie ; | AD22: Oui, donner | AE22: Non | AF22: Doute sur la qualité | AG22: Petit matériel (balles, raquettes, volants, ...); | AH22: Atelier de revalorisation;Atelier de sensibilisation sur le zéro-déchets; | AM22: Non | AN22: Non | AO22: Non | AP22: Non | AQ22: Non
A23: 23 | B23: 44601.338 | C23: 44601.345 | D23: anonymous | E23: 1 | F23: Aeromodélisme | G23: Aéromodélisme club ICARE | H23: Fédération française d'aéromodélisme | I23: Un club | J23: Sarrebourg - Château-Salins | K23: - | L23: - | M23: - | X23: Non | Y23: Oui | AB23: Des actions en interne à l'association | AC23: Réutilisation systématique de la chaine cinématique de nos aéronefs plus utilisés ou vente de ceux-ci sur le marché de l'occasion | AD23: Oui, vendre | AE23: Oui, acheter | AG23: moteur thermique ou électrique, servo, radiocommande, électronique embarquée; | AH23: Atelier de co-réparation;Vente de pièces détachés (visses, chaines, cordes ...); | AM23: Non | AN23: Non | AO23: Non | AP23: Non | AQ23: Non | AR23: L'aéromodélisme n'est pas vraiment adapté à l'entrée dans le projet d'une recyclerie du sport.
A24: 27 | B24: 44601.384 | C24: 44601.387 | D24: anonymous | E24: 1 | F24: Football | G24: FC HOCHWALD | H24: LGEF | I24: Un club | J24: Forbach - Saint Avold | K24: - | L24: - | M24: - | X24: Non | Y24: Non | Z24: Inexistence d'organisme de recyclage ; | AA24: Déchèterie ; | AD24: Oui, donner et vendre | AE24: Oui, acheter | AG24: Récompenses (médailles, coupes...); | AH24: Formation aux écogestes ; | AM24: Non | AN24: Non | AO24: Oui | AP24: Non | AQ24: Non
A25: 43 | B25: 44601.546 | C25: 44601.548 | D25: anonymous | E25: 1 | F25: Football | G25: Us woustviller | H25: Fédération française de football | I25: Un club | J25: Sarreguemines - Bitche | K25: - | L25: - | M25: - | X25: Non | Y25: Non | Z25: Inexistence d'organisme de recyclage ; | AA25: Déchèterie ; | AD25: Oui, donner et vendre | AE25: Oui, acheter | AG25: Gros matériel (table de tennis de table, trampoline, ...);Petit matériel (balles, raquettes, volants, ...); | AH25: Atelier de co-réparation;Atelier de sensibilisation sur le zéro-déchets;Atelier de revalorisation;Vente de pièces détachés (visses, chaines, cordes ...);Formation au développement durable ; | AM25: Non | AN25: Non | AO25: Oui | AP25: Oui | AQ25: Oui
A26: 47 | B26: 44601.659 | C26: 44601.661 | D26: anonymous | E26: 1 | F26: Football | G26: Union sportive Waldweistroff | H26: Fff | I26: Un club | J26: Thionville | K26: - | L26: - | M26: - | X26: Non | Y26: Non | Z26: Inexistence d'organisme de recyclage ; | AA26: Déchèterie ; | AD26: Oui, donner et vendre | AE26: Oui, acheter | AG26: Petit matériel (balles, raquettes, volants, ...);Vêtements / Textiles (chasubles, brassard, ...);Récompenses (médailles, coupes...); | AH26: Atelier de co-réparation;Atelier de sensibilisation sur le zéro-déchets;Atelier de revalorisation;Vente de pièces détachés (visses, chaines, cordes ...);Atelier de transformation ;Formation aux écogestes ;Formation au développement durable ; | AM26: Non | AN26: Non | AO26: Non | AP26: Oui | AQ26: Oui
A27: 73 | B27: 44603.737 | C27: 44603.739 | D27: anonymous | E27: 1 | F27: Football | G27: La Jeunesse Croix de l’Est | H27: FFF | I27: Un club | J27: Forbach - Saint Avold | K27: - | L27: - | M27: - | X27: Non | Y27: Non | Z27: Inexistence d'organisme de recyclage ; | AA27: Déchèterie ; | AD27: Oui, donner et vendre | AE27: Oui, acheter | AG27: Récompenses (médailles, coupes...); | AH27: Atelier de sensibilisation sur le zéro-déchets; | AM27: Non | AN27: Non | AO27: Oui | AP27: Oui | AQ27: Oui
A28: 87 | B28: 44609.659 | C28: 44609.663 | D28: anonymous | E28: 1 | F28: Football | G28: AS TETING | H28: FFF | I28: Un club | J28: Forbach - Saint Avold | K28: - | L28: - | M28: - | X28: Non | Y28: Non | Z28: Inexistence d'organisme de recyclage ; | AA28: Déchèterie ; | AD28: Oui, donner et vendre | AE28: Oui, acheter | AG28: Gros matériel (table de tennis de table, trampoline, ...); | AH28: Atelier de co-réparation;Atelier de sensibilisation sur le zéro-déchets;Atelier de transformation ;Formation aux écogestes ;Formation au développement durable ; | AM28: Non | AN28: Non | AO28: Oui | AP28: Non | AQ28: Oui
A29: 89 | B29: 44610.647 | C29: 44610.651 | D29: anonymous | E29: 1 | F29: Sport de quilles | G29: LA BOULE JOYEUSE | H29: FFBSQ | I29: Un club | J29: Metz - Orne | K29: - | L29: - | M29: - | X29: Non | Y29: Non | Z29: Inexistence d'organisme de recyclage ; | AA29: Déchèterie ;Stockage dans les locaux du club; | AD29: Oui, donner et vendre | AE29: Oui, acheter | AG29: Récompenses (médailles, coupes...);Petit matériel (balles, raquettes, volants, ...); | AH29: ce n'est pas à une structure de ce type de former les gens; | AM29: Non | AN29: Non | AO29: Oui | AP29: Non | AQ29: Oui | AR29: il ne faudrait pas que cela coûte de l'argent aux clubs ou aux fédé pour le fonctionnement de ces structures.
A30: 48 | B30: 44601.672 | C30: 44601.675 | D30: anonymous | E30: 1 | F30: Football | G30: As Bettborn Hellering | H30: FFF | I30: Un club | J30: Sarrebourg - Château-Salins | K30: - | L30: - | M30: - | X30: Non | Y30: Non | Z30: Inexistence d'organisme de recyclage ; | AA30: Déchèterie ;Stockage dans les locaux du club; | AD30: Oui, donner et vendre | AE30: Oui, acheter | AG30: Gros matériel (table de tennis de table, trampoline, ...);Petit matériel (balles, raquettes, volants, ...); | AH30: Atelier de transformation ; | AM30: Non | AN30: Non | AO30: Non | AP30: Non | AQ30: Non
A31: 56 | B31: 44602.338 | C31: 44602.339 | D31: anonymous | E31: 1 | F31: Football | G31: EXCELSIOR Cuvry | H31: FFF | I31: Un club | J31: Metz - Orne | K31: - | L31: - | M31: - | X31: Non | Y31: Non | Z31: Inexistence d'organisme de recyclage ; | AA31: Déchèterie ;Stockage dans les locaux du club; | AD31: Oui, donner et vendre | AE31: Oui, acheter | AG31: Petit matériel (balles, raquettes, volants, ...);Gros matériel (table de tennis de table, trampoline, ...);Récompenses (médailles, coupes...); | AH31: Atelier de co-réparation;Atelier de sensibilisation sur le zéro-déchets;Atelier de revalorisation;Atelier de transformation ;Formation aux écogestes ;Formation au développement durable ;Vente de pièces détachés (visses, chaines, cordes ...); | AM31: Non | AN31: Non | AO31: Oui | AP31: Oui | AQ31: Non
A32: 105 | B32: 44616.483 | C32: 44616.487 | D32: anonymous | E32: 1 | F32: Football | G32: FC VOLMERANGE LÈS BOULAY | H32: FFF | I32: Un club | J32: Forbach - Saint Avold | K32: - | L32: - | M32: - | X32: Non | Y32: Non | Z32: Inexistence d'organisme de recyclage ; | AA32: Distribution des ballons aux enfants du village ; | AD32: Oui, donner et vendre | AE32: Oui, acheter | AG32: Petit matériel (balles, raquettes, volants, ...);Récompenses (médailles, coupes...);Gros matériel (table de tennis de table, trampoline, ...); | AH32: Atelier de sensibilisation sur le zéro-déchets;Atelier de revalorisation;Formation aux écogestes ; | AM32: Non | AN32: Non | AO32: Non | AP32: Oui | AQ32: Oui | AR32: Avez vous eu une réflexion sur le recyclage du synthétique ?
A33: 71 | B33: 44603.676 | C33: 44603.678 | D33: anonymous | E33: 1 | F33: Football | G33: US ALSTING | H33: FFF | I33: Un club | J33: Forbach - Saint Avold | K33: - | L33: - | M33: - | X33: Non | Y33: Non | Z33: Inexistence d'organisme de recyclage ; | AA33: Stockage dans les locaux du club; | AD33: Oui, donner et vendre | AE33: Oui, acheter | AG33: Petit matériel (balles, raquettes, volants, ...);Vêtements / Textiles (chasubles, brassard, ...); | AH33: Atelier de co-réparation;Vente de pièces détachés (visses, chaines, cordes ...); | AM33: Non | AN33: Non | AO33: Non | AP33: Oui | AQ33: Oui | AR33: Bonjour, Nous sommes déjà en réflexion pour donner nos anciens maillots pour les donner dans des clubs dans le besoin (pays d'Afrique,...)
A34: 44 | B34: 44601.579 | C34: 44601.584 | D34: anonymous | E34: 1 | F34: Football | G34: FC PANGE | H34: FFF | I34: Un club | J34: Metz - Orne | K34: - | L34: - | M34: - | X34: Non | Y34: Non | Z34: Inexistence d'organisme de recyclage ; | AA34: Stockage dans les locaux du club; | AD34: Oui, donner et vendre | AE34: Oui, acheter | AG34: Petit matériel (balles, raquettes, volants, ...);Gros matériel (table de tennis de table, trampoline, ...); | AH34: Atelier de revalorisation; | AM34: Non | AN34: Non | AO34: Non | AP34: Non | AQ34: Oui
A35: 21 | B35: 44593.585 | C35: 44593.589 | D35: anonymous | E35: 1 | F35: Plongé | G35: Plongée Nature VTT | H35: FFESSM | I35: Un club | J35: Metz - Orne | K35: - | L35: - | M35: - | X35: Non | Y35: Non | Z35: Inexistence d'organisme de recyclage ; | AA35: Stockage dans les locaux du club; | AD35: Oui, donner et vendre | AE35: Oui, acheter | AG35: Petit équipement individuel : palmes, masques, tubas, combinaisons; | AH35: Atelier de co-réparation; | AM35: Non | AN35: Non | AO35: Non | AP35: Non | AQ35: Non
A36: 104 | B36: 44615.821 | C36: 44615.832 | D36: anonymous | E36: 1 | F36: Basket | G36: ROMBAS OLYMPIC CLUB BASKET | H36: FEDERATION FRANCAISE DE BASKET-BALL | I36: Un club | J36: Metz - Orne | K36: - | L36: - | M36: - | X36: Non | Y36: Non | Z36: Inexistence d'organisme de recyclage ; | AA36: Stockage dans les locaux du club;Déchèterie ;Poubelle; | AD36: Oui, donner et vendre | AE36: Oui, acheter | AG36: Récompenses (médailles, coupes...);Vêtements / Textiles (chasubles, brassard, ...);Petit matériel (balles, raquettes, volants, ...); | AH36: Atelier de co-réparation;Atelier de revalorisation;Atelier de transformation ; | AM36: Non | AN36: Non | AO36: Oui | AP36: Non | AQ36: Non
A37: 33 | B37: 44601.396 | C37: 44601.398 | D37: anonymous | E37: 1 | F37: Football | G37: AS Morhange | H37: FFF | I37: Un club | J37: Sarrebourg - Château-Salins | K37: - | L37: - | M37: - | X37: Non | Y37: Non | Z37: Inexistence d'organisme de recyclage ;Mauvais comportements individuels; | AA37: Déchèterie ; | AD37: Oui, donner et vendre | AE37: Oui, acheter | AG37: Vêtements / Textiles (chasubles, brassard, ...);Petit matériel (balles, raquettes, volants, ...);Gros matériel (table de tennis de table, trampoline, ...); | AH37: Atelier de co-réparation;Atelier de sensibilisation sur le zéro-déchets;Formation au développement durable ;Formation aux écogestes ; | AM37: Non | AN37: Non | AO37: Oui | AP37: Oui | AQ37: Oui | AR37: Le tri sélectif des déchets reste au niveau de l'association un cauchemar à gérer et garantir. Une réelle éducation des consciences reste plus que jamais nécessaire.
A38: 35 | B38: 44601.399 | C38: 44601.402 | D38: anonymous | E38: 1 | F38: Football | G38: Us voyer | H38: Football | I38: Un club | J38: Sarrebourg - Château-Salins | K38: - | L38: - | M38: - | X38: Non | Y38: Non | Z38: Inexistence d'organisme de recyclage ;Méconnaissance ; | AA38: On ne l enlevé que lorsqu'il est cassé ; | AD38: Oui, donner et vendre | AE38: Oui, acheter | AG38: Récompenses (médailles, coupes...); | AH38: Formation aux écogestes ; | AM38: Non | AN38: Non | AO38: Non | AP38: Non | AQ38: Oui
A39: 93 | B39: 44613.512 | C39: 44613.515 | D39: anonymous | E39: 1 | F39: Athlétisme | G39: Fensch Moselle Athlétisme | H39: FFA | I39: Un club | J39: Thionville | K39: - | L39: - | M39: - | X39: Non | Y39: Non | Z39: Nous le faisons à l'intérieur du Club; | AA39: Stockage dans les locaux du club; | AD39: Oui, donner et vendre | AE39: Oui, acheter | AG39: Petit matériel (balles, raquettes, volants, ...);Vêtements / Textiles (chasubles, brassard, ...);Gros matériel (table de tennis de table, trampoline, ...); | AH39: Atelier de revalorisation;Vente de pièces détachés (visses, chaines, cordes ...); | AM39: Oui | AN39: Oui | AO39: Oui | AP39: Oui | AQ39: Oui
A40: 62 | B40: 44602.525 | C40: 44602.531 | D40: anonymous | E40: 1 | F40: Escrime | G40: Cercle d'Escrime de Sarrebourg | H40: Fédération Française d'Escrime, Handisport et de Sport Adapté | I40: Un club | J40: Sarrebourg - Château-Salins | K40: - | L40: - | M40: - | X40: Non | Y40: Non | Z40: Nous réparons le matériel, et si il est hors service, donc plus réutilisable, nous recyclons la matière (plastique, acier); | AA40: Déchèterie ;Stockage dans les locaux du club;mise à disposition d'autres structures; | AD40: Oui, donner et vendre | AE40: Oui, acheter | AG40: Récompenses (médailles, coupes...);Vêtements / Textiles (chasubles, brassard, ...);Gros matériel (table de tennis de table, trampoline, ...);Petit matériel (balles, raquettes, volants, ...);l'ensemble concernant l'escrime et matériel pédagogique des séances d'échauffement; | AH40: Atelier de sensibilisation sur le zéro-déchets;Atelier de revalorisation;Atelier de transformation ;Formation aux écogestes ;Formation au développement durable ;réparation trop spécifique à l'escrime, nous maitrisons; | AM40: Non | AN40: Oui | AO40: Oui | AP40: Oui | AQ40: Oui | AR40: Bien évidemment suivant nos disponibilités
...

Sheet Analyse
A1: Analyse | B1: Disciplines représentés
B2: Football | C2: =SUMIF(Sheet1!F:F, B2, Sheet1!E:E) -> 46
B3: EPGV | C3: =SUMIF(Sheet1!F:F, B3, Sheet1!E:E) -> 9 | E3: Total | F3: =SUM(C2:C24) -> 103
B4: Athlétisme | C4: =SUMIF(Sheet1!F:F, B4, Sheet1!E:E) -> 8
B5: Basket | C5: =SUMIF(Sheet1!F:F, B5, Sheet1!E:E) -> 8
B6: Plongé | C6: =SUMIF(Sheet1!F:F, B6, Sheet1!E:E) -> 5
B7: Escrime | C7: =SUMIF(Sheet1!F:F, B7, Sheet1!E:E) -> 3
B8: Sport de quilles | C8: =SUMIF(Sheet1!F:F, B8, Sheet1!E:E) -> 3
B9: VB | C9: =SUMIF(Sheet1!F:F, B9, Sheet1!E:E) -> 3
B10: CK | C10: =SUMIF(Sheet1!F:F, B10, Sheet1!E:E) -> 2
B11: Ski | C11: =SUMIF(Sheet1!F:F, B11, Sheet1!E:E) -> 2
B12: Triathlon | C12: =SUMIF(Sheet1!F:F, B12, Sheet1!E:E) -> 2
B13: Aeromodélisme | C13: =SUMIF(Sheet1!F:F, B13, Sheet1!E:E) -> 1
B14: Aviron | C14: =SUMIF(Sheet1!F:F, B14, Sheet1!E:E) -> 1
B15: Badminton | C15: =SUMIF(Sheet1!F:F, B15, Sheet1!E:E) -> 1 | AJ15: Pourquoi n'utiliseriez vous pas de matériel de 2nd main ? | AS15: Pourquoi n'utiliseriez vous pas de matériel de 2nd main ?
B16: Gymnastique | C16: =SUMIF(Sheet1!F:F, B16, Sheet1!E:E) -> 1 | AJ16: Absence d'animateur dédié à l'activité. | AS16: Rien à recycler
B17: Handisport | C17: =SUMIF(Sheet1!F:F, B17, Sheet1!E:E) -> 1 | AJ17: Dangériosité, efficacité du matériel | AS17: Normalisation du matériel
B18: Lutte | C18: =SUMIF(Sheet1!F:F, B18, Sheet1!E:E) -> 1 | AJ18: Doute sur la qualité | AS18: Sécurité
B19: Natation | C19: =SUMIF(Sheet1!F:F, B19, Sheet1!E:E) -> 1 | AJ19: Doute sur la qualité | AS19: Etat du matériel (pas trop usé)
B20: Parachutisme | C20: =SUMIF(Sheet1!F:F, B20, Sheet1!E:E) -> 1 | AJ20: Entretien et réglage des skis personnalisés
B21: Rugby | C21: =SUMIF(Sheet1!F:F, B21, Sheet1!E:E) -> 1 | AJ21: État du matériel
B22: Tennis de table | C22: =SUMIF(Sheet1!F:F, B22, Sheet1!E:E) -> 1 | AJ22: je gères un groupement
B23: UGSEL | C23: =SUMIF(Sheet1!F:F, B23, Sheet1!E:E) -> 1 | AJ23: Le gros matériel et infrastructures sont propres au cosec municipal et pour le reste comme ballons ou matériel pédagogique,..préférence sanitaire à de la qualité et au neuf dont on prendra soin au maximum
B24: Voile | C24: =SUMIF(Sheet1!F:F, B24, Sheet1!E:E) -> 1 | AJ24: Le type de matériel ne se prêtant pas à une réutilisation (matériel usé ou défectueux)
AJ25: Les filets et poteaux de volley doivent être en état correct . Si un filet est abimé on le jette .
AJ26: Les matériels déjà utilisés peuvent nuir a la bonne pratique de notre sport
AJ27: les tapis cause d'hygiène
AJ28: Mauvais état
AJ29: Normes de sécurité, hygiène
AJ30: On ne peut que utiliser du matériel neuf
AJ31: Par respect pour nos membres. Ils payent assez cher leur cotisation pour ne pas avoir à utiliser du matériel d'occas
AJ32: Pas adapté aux exigences des entrainements ou trop usé. | AS32: Autres
AJ33: pas de vestimentaires | AS33: Voilier et matériel de navigation
AJ34: Pas d'endroit ou stocker le matériel, nous utilisons des salles municipales | AS34: Ski alpin et ski de fond
AJ35: Pas forcement adopté | AS35: Enrouleur au sol et appareil électronique escrime
AJ36: Pourquoi le Faire ?
AJ37: principalement pour des raisons d'hygiène
AJ38: risques de cassures
AJ39: S'assurer de la fiabilité du matériel , un contrôle sécuritaire préalable serait obligatoire .
AJ40: Sécurité
...
